Workbook

Sheet HaviOsszesito
A1: HAVI ÖSSZESÍTŐ (AAM)
A2: Alanyi adómentesként a bruttó bevétel és a nettó árbevétel megegyezik. A bevételeket a jóváírás hónapja szerint számolja. A Havi kiadást az A oszlopban megadott kezdő hónaptól a H oszlopban megadott záró hónapig számolja; üres H esetén decemberig. Az Éves és Egyszeri tétel az A oszlop szerinti hónapban jelenik meg. Az egyenleg adók és egyéb kötelezettségek előtti összeg.
A4: Hónap | B4: Ledolgozott órák | C4: Bevétel (bruttó = nettó, Ft) | D4: Nettó árbevétel (AAM, ÁFA nélkül, Ft) | E4: Kiadás az adott hónapban (Ft) | F4: Havi egyenleg bevétel–kiadás (Ft)
A5: =DATE(2026,1,1) -> 46023 | B5: =SUMIFS(Bevetelek!$C$4:$C$203,Bevetelek!$A$4:$A$203,">="&$A5,Bevetelek!$A$4:$A$203,"<"&EDATE($A5,1)) -> 0 | C5: =SUMIFS(Bevetelek!$D$4:$D$203,Bevetelek!$A$4:$A$203,">="&$A5,Bevetelek!$A$4:$A$203,"<"&EDATE($A5,1)) -> 0 | D5: =SUMIFS(Bevetelek!$D$4:$D$203,Bevetelek!$A$4:$A$203,">="&$A5,Bevetelek!$A$4:$A$203,"<"&EDATE($A5,1)) -> 0 | E5: =SUMIFS(Kiadasok!$D$4:$D$203,Kiadasok!$E$4:$E$203,"Havi",Kiadasok!$A$4:$A$203,">="&DATE(2026,1,1),Kiadasok!$A$4:$A$203,"<"&EDATE($A5,1),Kiadasok!$H$4:$H$203,">="&$A5)+SUMIFS(Kiadasok!$D$4:$D$203,Kiadasok!$E$4:$E$203,"Havi",Kiadasok!$A$4:$A$203,">="&DATE(2026,1,1),Kiadasok!$A$4:$A$203,"<"&EDATE($A5,1),Kiadasok!$H$4:$H$203,"")+SUMIFS(Kiadasok!$D$4:$D$203,Kiadasok!$E$4:$E$203,"Éves",Kiadasok!$A$4:$A$203,">="&$A5,Kiadasok!$A$4:$A$203,"<"&EDATE($A5,1))+SUMIFS(Kiadasok!$D$4:$D$203,Kiadasok!$E$4:$E$203,"Egyszeri",Kiadasok!$A$4:$A$203,">="&$A5,Kiadasok!$A$4:$A$203,"<"&EDATE($A5,1)) -> 0 | F5: =C5-E5 -> 0
A6: =DATE(2026,2,1) -> 46054 | B6: =SUMIFS(Bevetelek!$C$4:$C$203,Bevetelek!$A$4:$A$203,">="&$A6,Bevetelek!$A$4:$A$203,"<"&EDATE($A6,1)) -> 0 | C6: =SUMIFS(Bevetelek!$D$4:$D$203,Bevetelek!$A$4:$A$203,">="&$A6,Bevetelek!$A$4:$A$203,"<"&EDATE($A6,1)) -> 0 | D6: =SUMIFS(Bevetelek!$D$4:$D$203,Bevetelek!$A$4:$A$203,">="&$A6,Bevetelek!$A$4:$A$203,"<"&EDATE($A6,1)) -> 0 | E6: =SUMIFS(Kiadasok!$D$4:$D$203,Kiadasok!$E$4:$E$203,"Havi",Kiadasok!$A$4:$A$203,">="&DATE(2026,1,1),Kiadasok!$A$4:$A$203,"<"&EDATE($A6,1),Kiadasok!$H$4:$H$203,">="&$A6)+SUMIFS(Kiadasok!$D$4:$D$203,Kiadasok!$E$4:$E$203,"Havi",Kiadasok!$A$4:$A$203,">="&DATE(2026,1,1),Kiadasok!$A$4:$A$203,"<"&EDATE($A6,1),Kiadasok!$H$4:$H$203,"")+SUMIFS(Kiadasok!$D$4:$D$203,Kiadasok!$E$4:$E$203,"Éves",Kiadasok!$A$4:$A$203,">="&$A6,Kiadasok!$A$4:$A$203,"<"&EDATE($A6,1))+SUMIFS(Kiadasok!$D$4:$D$203,Kiadasok!$E$4:$E$203,"Egyszeri",Kiadasok!$A$4:$A$203,">="&$A6,Kiadasok!$A$4:$A$203,"<"&EDATE($A6,1)) -> 0 | F6: =C6-E6 -> 0
A7: =DATE(2026,3,1) -> 46082 | B7: =SUMIFS(Bevetelek!$C$4:$C$203,Bevetelek!$A$4:$A$203,">="&$A7,Bevetelek!$A$4:$A$203,"<"&EDATE($A7,1)) -> 0 | C7: =SUMIFS(Bevetelek!$D$4:$D$203,Bevetelek!$A$4:$A$203,">="&$A7,Bevetelek!$A$4:$A$203,"<"&EDATE($A7,1)) -> 0 | D7: =SUMIFS(Bevetelek!$D$4:$D$203,Bevetelek!$A$4:$A$203,">="&$A7,Bevetelek!$A$4:$A$203,"<"&EDATE($A7,1)) -> 0 | E7: =SUMIFS(Kiadasok!$D$4:$D$203,Kiadasok!$E$4:$E$203,"Havi",Kiadasok!$A$4:$A$203,">="&DATE(2026,1,1),Kiadasok!$A$4:$A$203,"<"&EDATE($A7,1),Kiadasok!$H$4:$H$203,">="&$A7)+SUMIFS(Kiadasok!$D$4:$D$203,Kiadasok!$E$4:$E$203,"Havi",Kiadasok!$A$4:$A$203,">="&DATE(2026,1,1),Kiadasok!$A$4:$A$203,"<"&EDATE($A7,1),Kiadasok!$H$4:$H$203,"")+SUMIFS(Kiadasok!$D$4:$D$203,Kiadasok!$E$4:$E$203,"Éves",Kiadasok!$A$4:$A$203,">="&$A7,Kiadasok!$A$4:$A$203,"<"&EDATE($A7,1))+SUMIFS(Kiadasok!$D$4:$D$203,Kiadasok!$E$4:$E$203,"Egyszeri",Kiadasok!$A$4:$A$203,">="&$A7,Kiadasok!$A$4:$A$203,"<"&EDATE($A7,1)) -> 0 | F7: =C7-E7 -> 0
A8: =DATE(2026,4,1) -> 46113 | B8: =SUMIFS(Bevetelek!$C$4:$C$203,Bevetelek!$A$4:$A$203,">="&$A8,Bevetelek!$A$4:$A$203,"<"&EDATE($A8,1)) -> 0 | C8: =SUMIFS(Bevetelek!$D$4:$D$203,Bevetelek!$A$4:$A$203,">="&$A8,Bevetelek!$A$4:$A$203,"<"&EDATE($A8,1)) -> 0 | D8: =SUMIFS(Bevetelek!$D$4:$D$203,Bevetelek!$A$4:$A$203,">="&$A8,Bevetelek!$A$4:$A$203,"<"&EDATE($A8,1)) -> 0 | E8: =SUMIFS(Kiadasok!$D$4:$D$203,Kiadasok!$E$4:$E$203,"Havi",Kiadasok!$A$4:$A$203,">="&DATE(2026,1,1),Kiadasok!$A$4:$A$203,"<"&EDATE($A8,1),Kiadasok!$H$4:$H$203,">="&$A8)+SUMIFS(Kiadasok!$D$4:$D$203,Kiadasok!$E$4:$E$203,"Havi",Kiadasok!$A$4:$A$203,">="&DATE(2026,1,1),Kiadasok!$A$4:$A$203,"<"&EDATE($A8,1),Kiadasok!$H$4:$H$203,"")+SUMIFS(Kiadasok!$D$4:$D$203,Kiadasok!$E$4:$E$203,"Éves",Kiadasok!$A$4:$A$203,">="&$A8,Kiadasok!$A$4:$A$203,"<"&EDATE($A8,1))+SUMIFS(Kiadasok!$D$4:$D$203,Kiadasok!$E$4:$E$203,"Egyszeri",Kiadasok!$A$4:$A$203,">="&$A8,Kiadasok!$A$4:$A$203,"<"&EDATE($A8,1)) -> 0 | F8: =C8-E8 -> 0
A9: =DATE(2026,5,1) -> 46143 | B9: =SUMIFS(Bevetelek!$C$4:$C$203,Bevetelek!$A$4:$A$203,">="&$A9,Bevetelek!$A$4:$A$203,"<"&EDATE($A9,1)) -> 0 | C9: =SUMIFS(Bevetelek!$D$4:$D$203,Bevetelek!$A$4:$A$203,">="&$A9,Bevetelek!$A$4:$A$203,"<"&EDATE($A9,1)) -> 0 | D9: =SUMIFS(Bevetelek!$D$4:$D$203,Bevetelek!$A$4:$A$203,">="&$A9,Bevetelek!$A$4:$A$203,"<"&EDATE($A9,1)) -> 0 | E9: =SUMIFS(Kiadasok!$D$4:$D$203,Kiadasok!$E$4:$E$203,"Havi",Kiadasok!$A$4:$A$203,">="&DATE(2026,1,1),Kiadasok!$A$4:$A$203,"<"&EDATE($A9,1),Kiadasok!$H$4:$H$203,">="&$A9)+SUMIFS(Kiadasok!$D$4:$D$203,Kiadasok!$E$4:$E$203,"Havi",Kiadasok!$A$4:$A$203,">="&DATE(2026,1,1),Kiadasok!$A$4:$A$203,"<"&EDATE($A9,1),Kiadasok!$H$4:$H$203,"")+SUMIFS(Kiadasok!$D$4:$D$203,Kiadasok!$E$4:$E$203,"Éves",Kiadasok!$A$4:$A$203,">="&$A9,Kiadasok!$A$4:$A$203,"<"&EDATE($A9,1))+SUMIFS(Kiadasok!$D$4:$D$203,Kiadasok!$E$4:$E$203,"Egyszeri",Kiadasok!$A$4:$A$203,">="&$A9,Kiadasok!$A$4:$A$203,"<"&EDATE($A9,1)) -> 0 | F9: =C9-E9 -> 0
A10: =DATE(2026,6,1) -> 46174 | B10: =SUMIFS(Bevetelek!$C$4:$C$203,Bevetelek!$A$4:$A$203,">="&$A10,Bevetelek!$A$4:$A$203,"<"&EDATE($A10,1)) -> 0 | C10: =SUMIFS(Bevetelek!$D$4:$D$203,Bevetelek!$A$4:$A$203,">="&$A10,Bevetelek!$A$4:$A$203,"<"&EDATE($A10,1)) -> 0 | D10: =SUMIFS(Bevetelek!$D$4:$D$203,Bevetelek!$A$4:$A$203,">="&$A10,Bevetelek!$A$4:$A$203,"<"&EDATE($A10,1)) -> 0 | E10: =SUMIFS(Kiadasok!$D$4:$D$203,Kiadasok!$E$4:$E$203,"Havi",Kiadasok!$A$4:$A$203,">="&DATE(2026,1,1),Kiadasok!$A$4:$A$203,"<"&EDATE($A10,1),Kiadasok!$H$4:$H$203,">="&$A10)+SUMIFS(Kiadasok!$D$4:$D$203,Kiadasok!$E$4:$E$203,"Havi",Kiadasok!$A$4:$A$203,">="&DATE(2026,1,1),Kiadasok!$A$4:$A$203,"<"&EDATE($A10,1),Kiadasok!$H$4:$H$203,"")+SUMIFS(Kiadasok!$D$4:$D$203,Kiadasok!$E$4:$E$203,"Éves",Kiadasok!$A$4:$A$203,">="&$A10,Kiadasok!$A$4:$A$203,"<"&EDATE($A10,1))+SUMIFS(Kiadasok!$D$4:$D$203,Kiadasok!$E$4:$E$203,"Egyszeri",Kiadasok!$A$4:$A$203,">="&$A10,Kiadasok!$A$4:$A$203,"<"&EDATE($A10,1)) -> 0 | F10: =C10-E10 -> 0
A11: =DATE(2026,7,1) -> 46204 | B11: =SUMIFS(Bevetelek!$C$4:$C$203,Bevetelek!$A$4:$A$203,">="&$A11,Bevetelek!$A$4:$A$203,"<"&EDATE($A11,1)) -> 0 | C11: =SUMIFS(Bevetelek!$D$4:$D$203,Bevetelek!$A$4:$A$203,">="&$A11,Bevetelek!$A$4:$A$203,"<"&EDATE($A11,1)) -> 0 | D11: =SUMIFS(Bevetelek!$D$4:$D$203,Bevetelek!$A$4:$A$203,">="&$A11,Bevetelek!$A$4:$A$203,"<"&EDATE($A11,1)) -> 0 | E11: =SUMIFS(Kiadasok!$D$4:$D$203,Kiadasok!$E$4:$E$203,"Havi",Kiadasok!$A$4:$A$203,">="&DATE(2026,1,1),Kiadasok!$A$4:$A$203,"<"&EDATE($A11,1),Kiadasok!$H$4:$H$203,">="&$A11)+SUMIFS(Kiadasok!$D$4:$D$203,Kiadasok!$E$4:$E$203,"Havi",Kiadasok!$A$4:$A$203,">="&DATE(2026,1,1),Kiadasok!$A$4:$A$203,"<"&EDATE($A11,1),Kiadasok!$H$4:$H$203,"")+SUMIFS(Kiadasok!$D$4:$D$203,Kiadasok!$E$4:$E$203,"Éves",Kiadasok!$A$4:$A$203,">="&$A11,Kiadasok!$A$4:$A$203,"<"&EDATE($A11,1))+SUMIFS(Kiadasok!$D$4:$D$203,Kiadasok!$E$4:$E$203,"Egyszeri",Kiadasok!$A$4:$A$203,">="&$A11,Kiadasok!$A$4:$A$203,"<"&EDATE($A11,1)) -> 0 | F11: =C11-E11 -> 0
A12: =DATE(2026,8,1) -> 46235 | B12: =SUMIFS(Bevetelek!$C$4:$C$203,Bevetelek!$A$4:$A$203,">="&$A12,Bevetelek!$A$4:$A$203,"<"&EDATE($A12,1)) -> 0 | C12: =SUMIFS(Bevetelek!$D$4:$D$203,Bevetelek!$A$4:$A$203,">="&$A12,Bevetelek!$A$4:$A$203,"<"&EDATE($A12,1)) -> 0 | D12: =SUMIFS(Bevetelek!$D$4:$D$203,Bevetelek!$A$4:$A$203,">="&$A12,Bevetelek!$A$4:$A$203,"<"&EDATE($A12,1)) -> 0 | E12: =SUMIFS(Kiadasok!$D$4:$D$203,Kiadasok!$E$4:$E$203,"Havi",Kiadasok!$A$4:$A$203,">="&DATE(2026,1,1),Kiadasok!$A$4:$A$203,"<"&EDATE($A12,1),Kiadasok!$H$4:$H$203,">="&$A12)+SUMIFS(Kiadasok!$D$4:$D$203,Kiadasok!$E$4:$E$203,"Havi",Kiadasok!$A$4:$A$203,">="&DATE(2026,1,1),Kiadasok!$A$4:$A$203,"<"&EDATE($A12,1),Kiadasok!$H$4:$H$203,"")+SUMIFS(Kiadasok!$D$4:$D$203,Kiadasok!$E$4:$E$203,"Éves",Kiadasok!$A$4:$A$203,">="&$A12,Kiadasok!$A$4:$A$203,"<"&EDATE($A12,1))+SUMIFS(Kiadasok!$D$4:$D$203,Kiadasok!$E$4:$E$203,"Egyszeri",Kiadasok!$A$4:$A$203,">="&$A12,Kiadasok!$A$4:$A$203,"<"&EDATE($A12,1)) -> 0 | F12: =C12-E12 -> 0
A13: =DATE(2026,9,1) -> 46266 | B13: =SUMIFS(Bevetelek!$C$4:$C$203,Bevetelek!$A$4:$A$203,">="&$A13,Bevetelek!$A$4:$A$203,"<"&EDATE($A13,1)) -> 0 | C13: =SUMIFS(Bevetelek!$D$4:$D$203,Bevetelek!$A$4:$A$203,">="&$A13,Bevetelek!$A$4:$A$203,"<"&EDATE($A13,1)) -> 0 | D13: =SUMIFS(Bevetelek!$D$4:$D$203,Bevetelek!$A$4:$A$203,">="&$A13,Bevetelek!$A$4:$A$203,"<"&EDATE($A13,1)) -> 0 | E13: =SUMIFS(Kiadasok!$D$4:$D$203,Kiadasok!$E$4:$E$203,"Havi",Kiadasok!$A$4:$A$203,">="&DATE(2026,1,1),Kiadasok!$A$4:$A$203,"<"&EDATE($A13,1),Kiadasok!$H$4:$H$203,">="&$A13)+SUMIFS(Kiadasok!$D$4:$D$203,Kiadasok!$E$4:$E$203,"Havi",Kiadasok!$A$4:$A$203,">="&DATE(2026,1,1),Kiadasok!$A$4:$A$203,"<"&EDATE($A13,1),Kiadasok!$H$4:$H$203,"")+SUMIFS(Kiadasok!$D$4:$D$203,Kiadasok!$E$4:$E$203,"Éves",Kiadasok!$A$4:$A$203,">="&$A13,Kiadasok!$A$4:$A$203,"<"&EDATE($A13,1))+SUMIFS(Kiadasok!$D$4:$D$203,Kiadasok!$E$4:$E$203,"Egyszeri",Kiadasok!$A$4:$A$203,">="&$A13,Kiadasok!$A$4:$A$203,"<"&EDATE($A13,1)) -> 0 | F13: =C13-E13 -> 0
A14: =DATE(2026,10,1) -> 46296 | B14: =SUMIFS(Bevetelek!$C$4:$C$203,Bevetelek!$A$4:$A$203,">="&$A14,Bevetelek!$A$4:$A$203,"<"&EDATE($A14,1)) -> 0 | C14: =SUMIFS(Bevetelek!$D$4:$D$203,Bevetelek!$A$4:$A$203,">="&$A14,Bevetelek!$A$4:$A$203,"<"&EDATE($A14,1)) -> 0 | D14: =SUMIFS(Bevetelek!$D$4:$D$203,Bevetelek!$A$4:$A$203,">="&$A14,Bevetelek!$A$4:$A$203,"<"&EDATE($A14,1)) -> 0 | E14: =SUMIFS(Kiadasok!$D$4:$D$203,Kiadasok!$E$4:$E$203,"Havi",Kiadasok!$A$4:$A$203,">="&DATE(2026,1,1),Kiadasok!$A$4:$A$203,"<"&EDATE($A14,1),Kiadasok!$H$4:$H$203,">="&$A14)+SUMIFS(Kiadasok!$D$4:$D$203,Kiadasok!$E$4:$E$203,"Havi",Kiadasok!$A$4:$A$203,">="&DATE(2026,1,1),Kiadasok!$A$4:$A$203,"<"&EDATE($A14,1),Kiadasok!$H$4:$H$203,"")+SUMIFS(Kiadasok!$D$4:$D$203,Kiadasok!$E$4:$E$203,"Éves",Kiadasok!$A$4:$A$203,">="&$A14,Kiadasok!$A$4:$A$203,"<"&EDATE($A14,1))+SUMIFS(Kiadasok!$D$4:$D$203,Kiadasok!$E$4:$E$203,"Egyszeri",Kiadasok!$A$4:$A$203,">="&$A14,Kiadasok!$A$4:$A$203,"<"&EDATE($A14,1)) -> 0 | F14: =C14-E14 -> 0
A15: =DATE(2026,11,1) -> 46327 | B15: =SUMIFS(Bevetelek!$C$4:$C$203,Bevetelek!$A$4:$A$203,">="&$A15,Bevetelek!$A$4:$A$203,"<"&EDATE($A15,1)) -> 0 | C15: =SUMIFS(Bevetelek!$D$4:$D$203,Bevetelek!$A$4:$A$203,">="&$A15,Bevetelek!$A$4:$A$203,"<"&EDATE($A15,1)) -> 0 | D15: =SUMIFS(Bevetelek!$D$4:$D$203,Bevetelek!$A$4:$A$203,">="&$A15,Bevetelek!$A$4:$A$203,"<"&EDATE($A15,1)) -> 0 | E15: =SUMIFS(Kiadasok!$D$4:$D$203,Kiadasok!$E$4:$E$203,"Havi",Kiadasok!$A$4:$A$203,">="&DATE(2026,1,1),Kiadasok!$A$4:$A$203,"<"&EDATE($A15,1),Kiadasok!$H$4:$H$203,">="&$A15)+SUMIFS(Kiadasok!$D$4:$D$203,Kiadasok!$E$4:$E$203,"Havi",Kiadasok!$A$4:$A$203,">="&DATE(2026,1,1),Kiadasok!$A$4:$A$203,"<"&EDATE($A15,1),Kiadasok!$H$4:$H$203,"")+SUMIFS(Kiadasok!$D$4:$D$203,Kiadasok!$E$4:$E$203,"Éves",Kiadasok!$A$4:$A$203,">="&$A15,Kiadasok!$A$4:$A$203,"<"&EDATE($A15,1))+SUMIFS(Kiadasok!$D$4:$D$203,Kiadasok!$E$4:$E$203,"Egyszeri",Kiadasok!$A$4:$A$203,">="&$A15,Kiadasok!$A$4:$A$203,"<"&EDATE($A15,1)) -> 0 | F15: =C15-E15 -> 0
A16: =DATE(2026,12,1) -> 46357 | B16: =SUMIFS(Bevetelek!$C$4:$C$203,Bevetelek!$A$4:$A$203,">="&$A16,Bevetelek!$A$4:$A$203,"<"&EDATE($A16,1)) -> 0 | C16: =SUMIFS(Bevetelek!$D$4:$D$203,Bevetelek!$A$4:$A$203,">="&$A16,Bevetelek!$A$4:$A$203,"<"&EDATE($A16,1)) -> 0 | D16: =SUMIFS(Bevetelek!$D$4:$D$203,Bevetelek!$A$4:$A$203,">="&$A16,Bevetelek!$A$4:$A$203,"<"&EDATE($A16,1)) -> 0 | E16: =SUMIFS(Kiadasok!$D$4:$D$203,Kiadasok!$E$4:$E$203,"Havi",Kiadasok!$A$4:$A$203,">="&DATE(2026,1,1),Kiadasok!$A$4:$A$203,"<"&EDATE($A16,1),Kiadasok!$H$4:$H$203,">="&$A16)+SUMIFS(Kiadasok!$D$4:$D$203,Kiadasok!$E$4:$E$203,"Havi",Kiadasok!$A$4:$A$203,">="&DATE(2026,1,1),Kiadasok!$A$4:$A$203,"<"&EDATE($A16,1),Kiadasok!$H$4:$H$203,"")+SUMIFS(Kiadasok!$D$4:$D$203,Kiadasok!$E$4:$E$203,"Éves",Kiadasok!$A$4:$A$203,">="&$A16,Kiadasok!$A$4:$A$203,"<"&EDATE($A16,1))+SUMIFS(Kiadasok!$D$4:$D$203,Kiadasok!$E$4:$E$203,"Egyszeri",Kiadasok!$A$4:$A$203,">="&$A16,Kiadasok!$A$4:$A$203,"<"&EDATE($A16,1)) -> 0 | F16: =C16-E16 -> 0
A17: ÉVES ÖSSZESEN | B17: =SUM(B5:B16) -> 0 | C17: =SUM(C5:C16) -> 0 | D17: =SUM(D5:D16) -> 0 | E17: =SUM(E5:E16) -> 0 | F17: =SUM(F5:F16) -> 0

Sheet Bevetelek
A1: BEVÉTELEK – ALANYI ADÓMENTES
A2: Minden beérkezett bevételt külön sorba rögzíts. Alanyi adómentesként ÁFA-kulcsot nem kell megadnod; a bruttó bevétel és a nettó árbevétel megegyezik.
A3: Jóváírás dátuma | B3: Ügyfél | C3: Ledolgozott órák | D3: Bevétel (bruttó = nettó, Ft) | E3: Megjegyzés

Sheet Kiadasok
A1: KIADÁSOK
A2: Egy kiadást egy sorban rögzíts. Havi tételnél a D oszlopba a havi összeget írd, az A oszlopban add meg a kezdő hónapot, a H oszlopban pedig az utolsó hónapot. Ha H üres, decemberig számolja. Éves vagy Egyszeri tételnél a teljes összeget add meg; az A oszlop szerinti hónapban jelenik meg. Az F oszlop az éves díj 1/12 részét mutatja tájékoztatóul.
A3: Dátum / havi díj kezdő hónapja | B3: Kategória | C3: Kiadás / szolgáltató | D3: Összeg tételenként (Ft) | E3: Gyakoriság | F3: Havi tervezési összeg (Ft) – automatikus | G3: Megjegyzés | H3: Havi díj záró hónapja (üres = december)
F4: =IF(OR(D4="",E4=""),"",IF(E4="Éves",D4/12,IF(E4="Havi",D4,0)))
F5: =IF(OR(D5="",E5=""),"",IF(E5="Éves",D5/12,IF(E5="Havi",D5,0)))
F6: =IF(OR(D6="",E6=""),"",IF(E6="Éves",D6/12,IF(E6="Havi",D6,0)))
F7: =IF(OR(D7="",E7=""),"",IF(E7="Éves",D7/12,IF(E7="Havi",D7,0)))
F8: =IF(OR(D8="",E8=""),"",IF(E8="Éves",D8/12,IF(E8="Havi",D8,0)))
F9: =IF(OR(D9="",E9=""),"",IF(E9="Éves",D9/12,IF(E9="Havi",D9,0)))
F10: =IF(OR(D10="",E10=""),"",IF(E10="Éves",D10/12,IF(E10="Havi",D10,0)))
F11: =IF(OR(D11="",E11=""),"",IF(E11="Éves",D11/12,IF(E11="Havi",D11,0)))
F12: =IF(OR(D12="",E12=""),"",IF(E12="Éves",D12/12,IF(E12="Havi",D12,0)))
F13: =IF(OR(D13="",E13=""),"",IF(E13="Éves",D13/12,IF(E13="Havi",D13,0)))
F14: =IF(OR(D14="",E14=""),"",IF(E14="Éves",D14/12,IF(E14="Havi",D14,0)))
F15: =IF(OR(D15="",E15=""),"",IF(E15="Éves",D15/12,IF(E15="Havi",D15,0)))
... F203: =IF(OR(D203="",E203=""),"",IF(E203="Éves",D203/12,IF(E203="Havi",D203,0)))

Sheet Eves
A1: ÉVES ÖSSZEFOGLALÓ – (AAM)
A2: Alanyi adómentesként a bruttó bevétel és a nettó árbevétel megegyezik. A bevételeket a jóváírás hónapja szerint számolja. A Havi kiadást az A oszlopban megadott kezdő hónaptól a H oszlopban megadott záró hónapig számolja; üres H esetén decemberig. Az Éves és Egyszeri tétel az A oszlop szerinti hónapban jelenik meg. Az egyenleg adók és egyéb kötelezettségek előtti összeg.
A3: Mutató | B3: összesen
A4: Ledolgozott órák | B4: =B26 -> 0
A5: Bevétel (bruttó = nettó, Ft) | B5: =C26 -> 0
A6: Nettó árbevétel (AAM, ÁFA nélkül, Ft) | B6: =D26 -> 0
A7: Éves kiadások összesen (Ft) | B7: =E26 -> 0
A8: Éves egyenleg (bevétel–kiadás, Ft) | B8: =F26 -> 0
A9: Éves díjak tényleges összege (Ft) | B9: =SUMIF(Kiadasok!$E$4:$E$203,"Éves",Kiadasok!$D$4:$D$203) -> 0
A10: Éves díjak havi tartaléka (Ft, tervezési adat) | B10: =B9/12 -> 0
A12: Havi bontás
A13: Hónap | B13: Ledolgozott órák | C13: Bevétel (bruttó = nettó, Ft) | D13: Nettó árbevétel (AAM, ÁFA nélkül, Ft) | E13: Kiadás az adott hónapban (Ft) | F13: Havi egyenleg bevétel–kiadás (Ft)
A14: =DATE(2026,1,1) -> 46023 | B14: =SUMIFS(Bevetelek!$C$4:$C$203,Bevetelek!$A$4:$A$203,">="&$A14,Bevetelek!$A$4:$A$203,"<"&EDATE($A14,1)) -> 0 | C14: =SUMIFS(Bevetelek!$D$4:$D$203,Bevetelek!$A$4:$A$203,">="&$A14,Bevetelek!$A$4:$A$203,"<"&EDATE($A14,1)) -> 0 | D14: =SUMIFS(Bevetelek!$D$4:$D$203,Bevetelek!$A$4:$A$203,">="&$A14,Bevetelek!$A$4:$A$203,"<"&EDATE($A14,1)) -> 0 | E14: =SUMIFS(Kiadasok!$D$4:$D$203,Kiadasok!$E$4:$E$203,"Havi",Kiadasok!$A$4:$A$203,">="&DATE(2026,1,1),Kiadasok!$A$4:$A$203,"<"&EDATE($A14,1),Kiadasok!$H$4:$H$203,">="&$A14)+SUMIFS(Kiadasok!$D$4:$D$203,Kiadasok!$E$4:$E$203,"Havi",Kiadasok!$A$4:$A$203,">="&DATE(2026,1,1),Kiadasok!$A$4:$A$203,"<"&EDATE($A14,1),Kiadasok!$H$4:$H$203,"")+SUMIFS(Kiadasok!$D$4:$D$203,Kiadasok!$E$4:$E$203,"Éves",Kiadasok!$A$4:$A$203,">="&$A14,Kiadasok!$A$4:$A$203,"<"&EDATE($A14,1))+SUMIFS(Kiadasok!$D$4:$D$203,Kiadasok!$E$4:$E$203,"Egyszeri",Kiadasok!$A$4:$A$203,">="&$A14,Kiadasok!$A$4:$A$203,"<"&EDATE($A14,1)) -> 0 | F14: =C14-E14 -> 0
A15: =DATE(2026,2,1) -> 46054 | B15: =SUMIFS(Bevetelek!$C$4:$C$203,Bevetelek!$A$4:$A$203,">="&$A15,Bevetelek!$A$4:$A$203,"<"&EDATE($A15,1)) -> 0 | C15: =SUMIFS(Bevetelek!$D$4:$D$203,Bevetelek!$A$4:$A$203,">="&$A15,Bevetelek!$A$4:$A$203,"<"&EDATE($A15,1)) -> 0 | D15: =SUMIFS(Bevetelek!$D$4:$D$203,Bevetelek!$A$4:$A$203,">="&$A15,Bevetelek!$A$4:$A$203,"<"&EDATE($A15,1)) -> 0 | E15: =SUMIFS(Kiadasok!$D$4:$D$203,Kiadasok!$E$4:$E$203,"Havi",Kiadasok!$A$4:$A$203,">="&DATE(2026,1,1),Kiadasok!$A$4:$A$203,"<"&EDATE($A15,1),Kiadasok!$H$4:$H$203,">="&$A15)+SUMIFS(Kiadasok!$D$4:$D$203,Kiadasok!$E$4:$E$203,"Havi",Kiadasok!$A$4:$A$203,">="&DATE(2026,1,1),Kiadasok!$A$4:$A$203,"<"&EDATE($A15,1),Kiadasok!$H$4:$H$203,"")+SUMIFS(Kiadasok!$D$4:$D$203,Kiadasok!$E$4:$E$203,"Éves",Kiadasok!$A$4:$A$203,">="&$A15,Kiadasok!$A$4:$A$203,"<"&EDATE($A15,1))+SUMIFS(Kiadasok!$D$4:$D$203,Kiadasok!$E$4:$E$203,"Egyszeri",Kiadasok!$A$4:$A$203,">="&$A15,Kiadasok!$A$4:$A$203,"<"&EDATE($A15,1)) -> 0 | F15: =C15-E15 -> 0
A16: =DATE(2026,3,1) -> 46082 | B16: =SUMIFS(Bevetelek!$C$4:$C$203,Bevetelek!$A$4:$A$203,">="&$A16,Bevetelek!$A$4:$A$203,"<"&EDATE($A16,1)) -> 0 | C16: =SUMIFS(Bevetelek!$D$4:$D$203,Bevetelek!$A$4:$A$203,">="&$A16,Bevetelek!$A$4:$A$203,"<"&EDATE($A16,1)) -> 0 | D16: =SUMIFS(Bevetelek!$D$4:$D$203,Bevetelek!$A$4:$A$203,">="&$A16,Bevetelek!$A$4:$A$203,"<"&EDATE($A16,1)) -> 0 | E16: =SUMIFS(Kiadasok!$D$4:$D$203,Kiadasok!$E$4:$E$203,"Havi",Kiadasok!$A$4:$A$203,">="&DATE(2026,1,1),Kiadasok!$A$4:$A$203,"<"&EDATE($A16,1),Kiadasok!$H$4:$H$203,">="&$A16)+SUMIFS(Kiadasok!$D$4:$D$203,Kiadasok!$E$4:$E$203,"Havi",Kiadasok!$A$4:$A$203,">="&DATE(2026,1,1),Kiadasok!$A$4:$A$203,"<"&EDATE($A16,1),Kiadasok!$H$4:$H$203,"")+SUMIFS(Kiadasok!$D$4:$D$203,Kiadasok!$E$4:$E$203,"Éves",Kiadasok!$A$4:$A$203,">="&$A16,Kiadasok!$A$4:$A$203,"<"&EDATE($A16,1))+SUMIFS(Kiadasok!$D$4:$D$203,Kiadasok!$E$4:$E$203,"Egyszeri",Kiadasok!$A$4:$A$203,">="&$A16,Kiadasok!$A$4:$A$203,"<"&EDATE($A16,1)) -> 0 | F16: =C16-E16 -> 0
A17: =DATE(2026,4,1) -> 46113 | B17: =SUMIFS(Bevetelek!$C$4:$C$203,Bevetelek!$A$4:$A$203,">="&$A17,Bevetelek!$A$4:$A$203,"<"&EDATE($A17,1)) -> 0 | C17: =SUMIFS(Bevetelek!$D$4:$D$203,Bevetelek!$A$4:$A$203,">="&$A17,Bevetelek!$A$4:$A$203,"<"&EDATE($A17,1)) -> 0 | D17: =SUMIFS(Bevetelek!$D$4:$D$203,Bevetelek!$A$4:$A$203,">="&$A17,Bevetelek!$A$4:$A$203,"<"&EDATE($A17,1)) -> 0 | E17: =SUMIFS(Kiadasok!$D$4:$D$203,Kiadasok!$E$4:$E$203,"Havi",Kiadasok!$A$4:$A$203,">="&DATE(2026,1,1),Kiadasok!$A$4:$A$203,"<"&EDATE($A17,1),Kiadasok!$H$4:$H$203,">="&$A17)+SUMIFS(Kiadasok!$D$4:$D$203,Kiadasok!$E$4:$E$203,"Havi",Kiadasok!$A$4:$A$203,">="&DATE(2026,1,1),Kiadasok!$A$4:$A$203,"<"&EDATE($A17,1),Kiadasok!$H$4:$H$203,"")+SUMIFS(Kiadasok!$D$4:$D$203,Kiadasok!$E$4:$E$203,"Éves",Kiadasok!$A$4:$A$203,">="&$A17,Kiadasok!$A$4:$A$203,"<"&EDATE($A17,1))+SUMIFS(Kiadasok!$D$4:$D$203,Kiadasok!$E$4:$E$203,"Egyszeri",Kiadasok!$A$4:$A$203,">="&$A17,Kiadasok!$A$4:$A$203,"<"&EDATE($A17,1)) -> 0 | F17: =C17-E17 -> 0
A18: =DATE(2026,5,1) -> 46143 | B18: =SUMIFS(Bevetelek!$C$4:$C$203,Bevetelek!$A$4:$A$203,">="&$A18,Bevetelek!$A$4:$A$203,"<"&EDATE($A18,1)) -> 0 | C18: =SUMIFS(Bevetelek!$D$4:$D$203,Bevetelek!$A$4:$A$203,">="&$A18,Bevetelek!$A$4:$A$203,"<"&EDATE($A18,1)) -> 0 | D18: =SUMIFS(Bevetelek!$D$4:$D$203,Bevetelek!$A$4:$A$203,">="&$A18,Bevetelek!$A$4:$A$203,"<"&EDATE($A18,1)) -> 0 | E18: =SUMIFS(Kiadasok!$D$4:$D$203,Kiadasok!$E$4:$E$203,"Havi",Kiadasok!$A$4:$A$203,">="&DATE(2026,1,1),Kiadasok!$A$4:$A$203,"<"&EDATE($A18,1),Kiadasok!$H$4:$H$203,">="&$A18)+SUMIFS(Kiadasok!$D$4:$D$203,Kiadasok!$E$4:$E$203,"Havi",Kiadasok!$A$4:$A$203,">="&DATE(2026,1,1),Kiadasok!$A$4:$A$203,"<"&EDATE($A18,1),Kiadasok!$H$4:$H$203,"")+SUMIFS(Kiadasok!$D$4:$D$203,Kiadasok!$E$4:$E$203,"Éves",Kiadasok!$A$4:$A$203,">="&$A18,Kiadasok!$A$4:$A$203,"<"&EDATE($A18,1))+SUMIFS(Kiadasok!$D$4:$D$203,Kiadasok!$E$4:$E$203,"Egyszeri",Kiadasok!$A$4:$A$203,">="&$A18,Kiadasok!$A$4:$A$203,"<"&EDATE($A18,1)) -> 0 | F18: =C18-E18 -> 0
A19: =DATE(2026,6,1) -> 46174 | B19: =SUMIFS(Bevetelek!$C$4:$C$203,Bevetelek!$A$4:$A$203,">="&$A19,Bevetelek!$A$4:$A$203,"<"&EDATE($A19,1)) -> 0 | C19: =SUMIFS(Bevetelek!$D$4:$D$203,Bevetelek!$A$4:$A$203,">="&$A19,Bevetelek!$A$4:$A$203,"<"&EDATE($A19,1)) -> 0 | D19: =SUMIFS(Bevetelek!$D$4:$D$203,Bevetelek!$A$4:$A$203,">="&$A19,Bevetelek!$A$4:$A$203,"<"&EDATE($A19,1)) -> 0 | E19: =SUMIFS(Kiadasok!$D$4:$D$203,Kiadasok!$E$4:$E$203,"Havi",Kiadasok!$A$4:$A$203,">="&DATE(2026,1,1),Kiadasok!$A$4:$A$203,"<"&EDATE($A19,1),Kiadasok!$H$4:$H$203,">="&$A19)+SUMIFS(Kiadasok!$D$4:$D$203,Kiadasok!$E$4:$E$203,"Havi",Kiadasok!$A$4:$A$203,">="&DATE(2026,1,1),Kiadasok!$A$4:$A$203,"<"&EDATE($A19,1),Kiadasok!$H$4:$H$203,"")+SUMIFS(Kiadasok!$D$4:$D$203,Kiadasok!$E$4:$E$203,"Éves",Kiadasok!$A$4:$A$203,">="&$A19,Kiadasok!$A$4:$A$203,"<"&EDATE($A19,1))+SUMIFS(Kiadasok!$D$4:$D$203,Kiadasok!$E$4:$E$203,"Egyszeri",Kiadasok!$A$4:$A$203,">="&$A19,Kiadasok!$A$4:$A$203,"<"&EDATE($A19,1)) -> 0 | F19: =C19-E19 -> 0
A20: =DATE(2026,7,1) -> 46204 | B20: =SUMIFS(Bevetelek!$C$4:$C$203,Bevetelek!$A$4:$A$203,">="&$A20,Bevetelek!$A$4:$A$203,"<"&EDATE($A20,1)) -> 0 | C20: =SUMIFS(Bevetelek!$D$4:$D$203,Bevetelek!$A$4:$A$203,">="&$A20,Bevetelek!$A$4:$A$203,"<"&EDATE($A20,1)) -> 0 | D20: =SUMIFS(Bevetelek!$D$4:$D$203,Bevetelek!$A$4:$A$203,">="&$A20,Bevetelek!$A$4:$A$203,"<"&EDATE($A20,1)) -> 0 | E20: =SUMIFS(Kiadasok!$D$4:$D$203,Kiadasok!$E$4:$E$203,"Havi",Kiadasok!$A$4:$A$203,">="&DATE(2026,1,1),Kiadasok!$A$4:$A$203,"<"&EDATE($A20,1),Kiadasok!$H$4:$H$203,">="&$A20)+SUMIFS(Kiadasok!$D$4:$D$203,Kiadasok!$E$4:$E$203,"Havi",Kiadasok!$A$4:$A$203,">="&DATE(2026,1,1),Kiadasok!$A$4:$A$203,"<"&EDATE($A20,1),Kiadasok!$H$4:$H$203,"")+SUMIFS(Kiadasok!$D$4:$D$203,Kiadasok!$E$4:$E$203,"Éves",Kiadasok!$A$4:$A$203,">="&$A20,Kiadasok!$A$4:$A$203,"<"&EDATE($A20,1))+SUMIFS(Kiadasok!$D$4:$D$203,Kiadasok!$E$4:$E$203,"Egyszeri",Kiadasok!$A$4:$A$203,">="&$A20,Kiadasok!$A$4:$A$203,"<"&EDATE($A20,1)) -> 0 | F20: =C20-E20 -> 0
A21: =DATE(2026,8,1) -> 46235 | B21: =SUMIFS(Bevetelek!$C$4:$C$203,Bevetelek!$A$4:$A$203,">="&$A21,Bevetelek!$A$4:$A$203,"<"&EDATE($A21,1)) -> 0 | C21: =SUMIFS(Bevetelek!$D$4:$D$203,Bevetelek!$A$4:$A$203,">="&$A21,Bevetelek!$A$4:$A$203,"<"&EDATE($A21,1)) -> 0 | D21: =SUMIFS(Bevetelek!$D$4:$D$203,Bevetelek!$A$4:$A$203,">="&$A21,Bevetelek!$A$4:$A$203,"<"&EDATE($A21,1)) -> 0 | E21: =SUMIFS(Kiadasok!$D$4:$D$203,Kiadasok!$E$4:$E$203,"Havi",Kiadasok!$A$4:$A$203,">="&DATE(2026,1,1),Kiadasok!$A$4:$A$203,"<"&EDATE($A21,1),Kiadasok!$H$4:$H$203,">="&$A21)+SUMIFS(Kiadasok!$D$4:$D$203,Kiadasok!$E$4:$E$203,"Havi",Kiadasok!$A$4:$A$203,">="&DATE(2026,1,1),Kiadasok!$A$4:$A$203,"<"&EDATE($A21,1),Kiadasok!$H$4:$H$203,"")+SUMIFS(Kiadasok!$D$4:$D$203,Kiadasok!$E$4:$E$203,"Éves",Kiadasok!$A$4:$A$203,">="&$A21,Kiadasok!$A$4:$A$203,"<"&EDATE($A21,1))+SUMIFS(Kiadasok!$D$4:$D$203,Kiadasok!$E$4:$E$203,"Egyszeri",Kiadasok!$A$4:$A$203,">="&$A21,Kiadasok!$A$4:$A$203,"<"&EDATE($A21,1)) -> 0 | F21: =C21-E21 -> 0
A22: =DATE(2026,9,1) -> 46266 | B22: =SUMIFS(Bevetelek!$C$4:$C$203,Bevetelek!$A$4:$A$203,">="&$A22,Bevetelek!$A$4:$A$203,"<"&EDATE($A22,1)) -> 0 | C22: =SUMIFS(Bevetelek!$D$4:$D$203,Bevetelek!$A$4:$A$203,">="&$A22,Bevetelek!$A$4:$A$203,"<"&EDATE($A22,1)) -> 0 | D22: =SUMIFS(Bevetelek!$D$4:$D$203,Bevetelek!$A$4:$A$203,">="&$A22,Bevetelek!$A$4:$A$203,"<"&EDATE($A22,1)) -> 0 | E22: =SUMIFS(Kiadasok!$D$4:$D$203,Kiadasok!$E$4:$E$203,"Havi",Kiadasok!$A$4:$A$203,">="&DATE(2026,1,1),Kiadasok!$A$4:$A$203,"<"&EDATE($A22,1),Kiadasok!$H$4:$H$203,">="&$A22)+SUMIFS(Kiadasok!$D$4:$D$203,Kiadasok!$E$4:$E$203,"Havi",Kiadasok!$A$4:$A$203,">="&DATE(2026,1,1),Kiadasok!$A$4:$A$203,"<"&EDATE($A22,1),Kiadasok!$H$4:$H$203,"")+SUMIFS(Kiadasok!$D$4:$D$203,Kiadasok!$E$4:$E$203,"Éves",Kiadasok!$A$4:$A$203,">="&$A22,Kiadasok!$A$4:$A$203,"<"&EDATE($A22,1))+SUMIFS(Kiadasok!$D$4:$D$203,Kiadasok!$E$4:$E$203,"Egyszeri",Kiadasok!$A$4:$A$203,">="&$A22,Kiadasok!$A$4:$A$203,"<"&EDATE($A22,1)) -> 0 | F22: =C22-E22 -> 0
A23: =DATE(2026,10,1) -> 46296 | B23: =SUMIFS(Bevetelek!$C$4:$C$203,Bevetelek!$A$4:$A$203,">="&$A23,Bevetelek!$A$4:$A$203,"<"&EDATE($A23,1)) -> 0 | C23: =SUMIFS(Bevetelek!$D$4:$D$203,Bevetelek!$A$4:$A$203,">="&$A23,Bevetelek!$A$4:$A$203,"<"&EDATE($A23,1)) -> 0 | D23: =SUMIFS(Bevetelek!$D$4:$D$203,Bevetelek!$A$4:$A$203,">="&$A23,Bevetelek!$A$4:$A$203,"<"&EDATE($A23,1)) -> 0 | E23: =SUMIFS(Kiadasok!$D$4:$D$203,Kiadasok!$E$4:$E$203,"Havi",Kiadasok!$A$4:$A$203,">="&DATE(2026,1,1),Kiadasok!$A$4:$A$203,"<"&EDATE($A23,1),Kiadasok!$H$4:$H$203,">="&$A23)+SUMIFS(Kiadasok!$D$4:$D$203,Kiadasok!$E$4:$E$203,"Havi",Kiadasok!$A$4:$A$203,">="&DATE(2026,1,1),Kiadasok!$A$4:$A$203,"<"&EDATE($A23,1),Kiadasok!$H$4:$H$203,"")+SUMIFS(Kiadasok!$D$4:$D$203,Kiadasok!$E$4:$E$203,"Éves",Kiadasok!$A$4:$A$203,">="&$A23,Kiadasok!$A$4:$A$203,"<"&EDATE($A23,1))+SUMIFS(Kiadasok!$D$4:$D$203,Kiadasok!$E$4:$E$203,"Egyszeri",Kiadasok!$A$4:$A$203,">="&$A23,Kiadasok!$A$4:$A$203,"<"&EDATE($A23,1)) -> 0 | F23: =C23-E23 -> 0
A24: =DATE(2026,11,1) -> 46327 | B24: =SUMIFS(Bevetelek!$C$4:$C$203,Bevetelek!$A$4:$A$203,">="&$A24,Bevetelek!$A$4:$A$203,"<"&EDATE($A24,1)) -> 0 | C24: =SUMIFS(Bevetelek!$D$4:$D$203,Bevetelek!$A$4:$A$203,">="&$A24,Bevetelek!$A$4:$A$203,"<"&EDATE($A24,1)) -> 0 | D24: =SUMIFS(Bevetelek!$D$4:$D$203,Bevetelek!$A$4:$A$203,">="&$A24,Bevetelek!$A$4:$A$203,"<"&EDATE($A24,1)) -> 0 | E24: =SUMIFS(Kiadasok!$D$4:$D$203,Kiadasok!$E$4:$E$203,"Havi",Kiadasok!$A$4:$A$203,">="&DATE(2026,1,1),Kiadasok!$A$4:$A$203,"<"&EDATE($A24,1),Kiadasok!$H$4:$H$203,">="&$A24)+SUMIFS(Kiadasok!$D$4:$D$203,Kiadasok!$E$4:$E$203,"Havi",Kiadasok!$A$4:$A$203,">="&DATE(2026,1,1),Kiadasok!$A$4:$A$203,"<"&EDATE($A24,1),Kiadasok!$H$4:$H$203,"")+SUMIFS(Kiadasok!$D$4:$D$203,Kiadasok!$E$4:$E$203,"Éves",Kiadasok!$A$4:$A$203,">="&$A24,Kiadasok!$A$4:$A$203,"<"&EDATE($A24,1))+SUMIFS(Kiadasok!$D$4:$D$203,Kiadasok!$E$4:$E$203,"Egyszeri",Kiadasok!$A$4:$A$203,">="&$A24,Kiadasok!$A$4:$A$203,"<"&EDATE($A24,1)) -> 0 | F24: =C24-E24 -> 0
A25: =DATE(2026,12,1) -> 46357 | B25: =SUMIFS(Bevetelek!$C$4:$C$203,Bevetelek!$A$4:$A$203,">="&$A25,Bevetelek!$A$4:$A$203,"<"&EDATE($A25,1)) -> 0 | C25: =SUMIFS(Bevetelek!$D$4:$D$203,Bevetelek!$A$4:$A$203,">="&$A25,Bevetelek!$A$4:$A$203,"<"&EDATE($A25,1)) -> 0 | D25: =SUMIFS(Bevetelek!$D$4:$D$203,Bevetelek!$A$4:$A$203,">="&$A25,Bevetelek!$A$4:$A$203,"<"&EDATE($A25,1)) -> 0 | E25: =SUMIFS(Kiadasok!$D$4:$D$203,Kiadasok!$E$4:$E$203,"Havi",Kiadasok!$A$4:$A$203,">="&DATE(2026,1,1),Kiadasok!$A$4:$A$203,"<"&EDATE($A25,1),Kiadasok!$H$4:$H$203,">="&$A25)+SUMIFS(Kiadasok!$D$4:$D$203,Kiadasok!$E$4:$E$203,"Havi",Kiadasok!$A$4:$A$203,">="&DATE(2026,1,1),Kiadasok!$A$4:$A$203,"<"&EDATE($A25,1),Kiadasok!$H$4:$H$203,"")+SUMIFS(Kiadasok!$D$4:$D$203,Kiadasok!$E$4:$E$203,"Éves",Kiadasok!$A$4:$A$203,">="&$A25,Kiadasok!$A$4:$A$203,"<"&EDATE($A25,1))+SUMIFS(Kiadasok!$D$4:$D$203,Kiadasok!$E$4:$E$203,"Egyszeri",Kiadasok!$A$4:$A$203,">="&$A25,Kiadasok!$A$4:$A$203,"<"&EDATE($A25,1)) -> 0 | F25: =C25-E25 -> 0
A26: ÉVES ÖSSZESEN | B26: =SUM(B14:B25) -> 0 | C26: =SUM(C14:C25) -> 0 | D26: =SUM(D14:D25) -> 0 | E26: =SUM(E14:E25) -> 0 | F26: =SUM(F14:F25) -> 0
